BEGIN:VCALENDAR
VERSION:2.0
PRODID:-//85.13.144.111//NONSGML kigkonsult.se iCalcreator 2.20//
CALSCALE:GREGORIAN
METHOD:PUBLISH
X-WR-TIMEZONE:Europe/Berlin
BEGIN:VEVENT
UID:event283@quinta-essentia.de
DTSTAMP:20260422T022805Z
CATEGORIES:Urlaub
DESCRIPTION:Praxisferien\nKategorie: Urlaub\nICS-Link: https://quinta-essen
 tia.de/index.php?option=com_jem&view=event&id=283:praxisferien\n
DTSTART;VALUE=DATE:20261023
DTEND;VALUE=DATE:20261116
SUMMARY:Praxisferien
URL:https://quinta-essentia.de/index.php?option=com_jem&view=event&id=283:p
 raxisferien
END:VEVENT
END:VCALENDAR
