BEGIN:VCALENDAR
VERSION:2.0
PRODID:-//85.13.144.111//NONSGML kigkonsult.se iCalcreator 2.20//
CALSCALE:GREGORIAN
METHOD:PUBLISH
X-WR-TIMEZONE:Europe/Berlin
BEGIN:VEVENT
UID:event169@quinta-essentia.de
DTSTAMP:20260420T102936Z
CATEGORIES:Tantra\, Abendveranstaltungen
DESCRIPTION:Quinta Essentia Online-Treffen\nKategorie: Tantra\, Abendverans
 taltungen\nICS-Link: https://quinta-essentia.de/index.php?option=com_jem&v
 iew=event&id=169:quinta-essentia-teilnehmer-online\n
DTSTART:20220214T200000
DTEND:20220214T220000
LOCATION:online (Zoom)
SUMMARY:Quinta Essentia Online-Treffen
URL:https://quinta-essentia.de/index.php?option=com_jem&view=event&id=169:q
 uinta-essentia-teilnehmer-online
END:VEVENT
END:VCALENDAR
