BEGIN:VCALENDAR
VERSION:2.0
PRODID:-//85.13.144.111//NONSGML kigkonsult.se iCalcreator 2.20//
CALSCALE:GREGORIAN
METHOD:PUBLISH
X-WR-TIMEZONE:Europe/Berlin
BEGIN:VEVENT
UID:event248@quinta-essentia.de
DTSTAMP:20260420T085047Z
CATEGORIES:Messen/Ausstellungen
DESCRIPTION:Spiritualität & Heilen\nKategorie: Messen/Ausstellungen\nICS-Li
 nk: https://quinta-essentia.de/index.php?option=com_jem&view=event&id=248:
 spiritualitaet-heilen\n
DTSTART:20251108T110000
DTEND:20251109T180000
LOCATION:Löwenbräukeller\,Nymphenburger Str. 2\,80335 München
SUMMARY:Spiritualität & Heilen
URL:https://quinta-essentia.de/index.php?option=com_jem&view=event&id=248:s
 piritualitaet-heilen
END:VEVENT
END:VCALENDAR
