BEGIN:VCALENDAR
VERSION:2.0
PRODID:-//85.13.144.111//NONSGML kigkonsult.se iCalcreator 2.20//
CALSCALE:GREGORIAN
METHOD:PUBLISH
X-WR-TIMEZONE:Europe/Berlin
BEGIN:VEVENT
UID:event56@quinta-essentia.de
DTSTAMP:20260421T034314Z
CATEGORIES:Tantra
DESCRIPTION:Tantrischer Frühling\nKategorie: Tantra\nICS-Link: https://quin
 ta-essentia.de/index.php?option=com_jem&view=event&id=56:tantraseminar-ein
 steiger-fortgeschrittene-tantrischer-fruehling\n
DTSTART:20250307T190000
DTEND:20250309T180000
LOCATION:ANIMA*HAUS\,Schnelliggasse 2 (links von Nr. 2)\,67105 Schifferstad
 t
SUMMARY:Tantrischer Frühling
URL:https://quinta-essentia.de/index.php?option=com_jem&view=event&id=56:ta
 ntraseminar-einsteiger-fortgeschrittene-tantrischer-fruehling
END:VEVENT
END:VCALENDAR
